BEGIN:VCALENDAR
VERSION:2.0
PRODID:-//ExpressionEngine Easy iCalendar plugin//NONSGML v1.1.1//EN
BEGIN:VEVENT
UID:event
LOCATION:\, Knox Hall\, Room 509\, 606 West 122nd Street\, between Broadw
 ay and Claremont Avenue
DTSTAMP:20210221T33800Z
DTSTART;TZID=America/New_York:20120924T160000
DTEND;TZID=America/New_York:
SUMMARY:Anxieties of Democracy: Tocquevillean Reflections on India a
 nd the United States
DESCRIPTION:Partha Chatterjee and Ira Katznelson discuss their recently 
 published edited volume\, Anxieties of Democracy: Tocqueville
 an Reflections on India and the United States.
END:VEVENT
END:VCALENDAR