BEGIN:VCALENDAR
VERSION:2.0
PRODID:-//ExpressionEngine Easy iCalendar plugin//NONSGML v1.1.1//EN
BEGIN:VEVENT
UID:event
LOCATION:The Heyman Center\, Second Floor Common Room
DTSTAMP:20210221T33000Z
DTSTART;TZID=America/New_York:20120921T90000
DTEND;TZID=America/New_York:20120921T191500
SUMMARY:Rousseau and Republicanism—A Day-Long Conference
DESCRIPTION:2012 marks the 300th anniversary of Jean-Jacques Rousseau’
 s birth and the 250th anniversary of his Social Contract.  
 This conference is intended to celebrate these milestones.
END:VEVENT
END:VCALENDAR