BEGIN:VCALENDAR
VERSION:2.0
PRODID:-//ExpressionEngine Easy iCalendar plugin//NONSGML v1.1.1//EN
BEGIN:VEVENT
UID:event
LOCATION:Deutsches Haus
DTSTAMP:20210221T33300Z
DTSTART;TZID=America/New_York:20120921T90000
DTEND;TZID=America/New_York:20120922T000000
SUMMARY:Cinema and Legacies of Critical Theory: An International Con
 ference in Memory of Miriam Hansen
DESCRIPTION:This international conference is dedicated to the memory of 
 Miriam Hansen and her seminal work in film history and film 
 theory.
END:VEVENT
END:VCALENDAR