BEGIN:VCALENDAR
VERSION:2.0
PRODID:-//ExpressionEngine Easy iCalendar plugin//NONSGML v1.1.1//EN
BEGIN:VEVENT
UID:event
LOCATION:\, New York University\, Department of Journalism\, 20 Cooper S
 quare\, 7th Floor
DTSTAMP:20210221T33600Z
DTSTART;TZID=America/New_York:20121001T190000
DTEND;TZID=America/New_York:
SUMMARY:An Evening with Alison Bechdel
DESCRIPTION:Alison Bechdel\, the author of Fun Home\, is interviewed by Ja
 red Gardner about her new graphic memoir\, Are You My Mother?
 .
END:VEVENT
END:VCALENDAR