BEGIN:VCALENDAR
VERSION:2.0
PRODID:-//ExpressionEngine Easy iCalendar plugin//NONSGML v1.1.1//EN
BEGIN:VEVENT
UID:event
LOCATION:Miller Theatre
DTSTAMP:20210221T33500Z
DTSTART;TZID=America/New_York:20121004T183000
DTEND;TZID=America/New_York:
SUMMARY:A Staged Reading of Ismail Khalidi’s “Tennis in Nablus
 
DESCRIPTION:A staged reading of Tennis in Nablus\, written by playwright 
 and poet Ismail Khalidi. This “tragipoliticomedy” was no
 minated for a Suzi Bass Award for Best New Play and awarded 
 the Quest for Peace Award from the Kennedy Center.
END:VEVENT
END:VCALENDAR