BEGIN:VCALENDAR
VERSION:2.0
PRODID:-//ExpressionEngine Easy iCalendar plugin//NONSGML v1.1.1//EN
BEGIN:VEVENT
UID:event
LOCATION:The Schapiro Center\, Davis Auditorium
DTSTAMP:20210221T33100Z
DTSTART;TZID=America/New_York:20121025T181500
DTEND;TZID=America/New_York:
SUMMARY:Martin Jay on “The Missed Encounter of Quentin Skinner and
  Hayden White”
DESCRIPTION:The Annual History and Theory Lecture will feature Martin J
 ay.
END:VEVENT
END:VCALENDAR