BEGIN:VCALENDAR
VERSION:2.0
PRODID:-//ExpressionEngine Easy iCalendar plugin//NONSGML v1.1.1//EN
BEGIN:VEVENT
UID:event
LOCATION:Miller Theatre
DTSTAMP:20210221T33600Z
DTSTART;TZID=America/New_York:20121030T183000
DTEND;TZID=America/New_York:
SUMMARY:A Performative Reading: Conversations with Stalin (Chapters 
 5-8) - CANCELLED
DESCRIPTION:Due to Hurricane Sandy\, this event has been canceled.\n\nIn th
 is performative reading\, artist and author Eleanor Antin pre
 sents chapters from her new coming-of-age memoir\, Conversati
 ons with Stalin.
END:VEVENT
END:VCALENDAR