BEGIN:VCALENDAR
VERSION:2.0
PRODID:-//ExpressionEngine Easy iCalendar plugin//NONSGML v1.1.1//EN
BEGIN:VEVENT
UID:event
LOCATION:International Affairs Building\, Room 417 (Altschul Auditoriu
 m)
DTSTAMP:20210221T33900Z
DTSTART;TZID=America/New_York:20130222T181500
DTEND;TZID=America/New_York:
SUMMARY:Joseph Stiglitz\, James K. Galbraith\, and Branko Milanovic on
  “Global Inequality”
DESCRIPTION:The field of inequality studies is relatively new but it is 
 gaining increasing momentum as inequality grows not only in 
 less developed countries but in advanced countries as well\, 
 and in the United States in particular.\n\nDownload Professor 
 Milanovic's paper here.
END:VEVENT
END:VCALENDAR