BEGIN:VCALENDAR
VERSION:2.0
PRODID:-//ExpressionEngine Easy iCalendar plugin//NONSGML v1.1.1//EN
BEGIN:VEVENT
UID:event
LOCATION:Barnard Hall\, Sulzberger Parlor (Third Floor)
DTSTAMP:20210221T33600Z
DTSTART;TZID=America/New_York:20121101T190000
DTEND;TZID=America/New_York:
SUMMARY:A Poetry Reading: Anne Carson and Alice Oswald
DESCRIPTION:The 2012-13 Women Poets at Barnard Series begins with two pr
 ize winning poets reading from their work\, co-sponsored with
  the Barnard Center for Research on Women and the Heyman Cen
 ter for the Humanities.
END:VEVENT
END:VCALENDAR