BEGIN:VCALENDAR
VERSION:2.0
PRODID:-//ExpressionEngine Easy iCalendar plugin//NONSGML v1.1.1//EN
BEGIN:VEVENT
UID:event
LOCATION:The Heyman Center\, Second Floor Common Room
DTSTAMP:20210221T33800Z
DTSTART;TZID=America/New_York:20121112T181500
DTEND;TZID=America/New_York:
SUMMARY:Lorraine Daston on “Rules Rule: From Enlightenment Reason 
 to Cold War Rationality”
DESCRIPTION:This talk will chart the rise of the algorithm as the backbo
 ne of rationality in post-World War II America\, in contrast 
 to earlier concepts of both reason and rules.
END:VEVENT
END:VCALENDAR