BEGIN:VCALENDAR
VERSION:2.0
PRODID:-//ExpressionEngine Easy iCalendar plugin//NONSGML v1.1.1//EN
BEGIN:VEVENT
UID:event
LOCATION:The Heyman Center\, Second Floor Common Room
DTSTAMP:20210221T33800Z
DTSTART;TZID=America/New_York:20121113T181500
DTEND;TZID=America/New_York:
SUMMARY:Darryl Pinckney on “Intellectual Women”
DESCRIPTION:The Fall 2012 Lionel Trilling Seminar will feature Darryl Pi
 nckney on "Intellectual Women."
END:VEVENT
END:VCALENDAR