BEGIN:VCALENDAR
VERSION:2.0
PRODID:-//ExpressionEngine Easy iCalendar plugin//NONSGML v1.1.1//EN
BEGIN:VEVENT
UID:event
LOCATION:The Heyman Center\, Second Floor Common Room
DTSTAMP:20210221T33800Z
DTSTART;TZID=America/New_York:20121129T160000
DTEND;TZID=America/New_York:
SUMMARY:John P. McCormick on “The Ambiguities of Machiavellian Vir
 tue”
DESCRIPTION:John McCormick’s lecture will open the celebrations on the
  quincentennial of The Prince at Columbia University.
END:VEVENT
END:VCALENDAR