BEGIN:VCALENDAR
VERSION:2.0
PRODID:-//ExpressionEngine Easy iCalendar plugin//NONSGML v1.1.1//EN
BEGIN:VEVENT
UID:event
LOCATION:\, East Gallery\, Buell Hall
DTSTAMP:20210221T33100Z
DTSTART;TZID=America/New_York:20120927T180000
DTEND;TZID=America/New_York:
SUMMARY:Thomas Piketty on “Inequality in America: The 1% in Intern
 ational and Historical Perspective”
DESCRIPTION:Please note: Registration is now closed.\n\nInequality in the 
 U.S. is now larger than ever before in American history. Wit
 h 50% of national income going to top 10% income earners and
  75% of national wealth going to top 10% wealth holders\, ine
 quality is approaching the record levels observed in Europe 
 from 1900-1910. Does inequality in America have a distinctiv
 e meritocratic character (American exceptionalism)\, or is th
 e New World simply becoming like Old Europe?
END:VEVENT
END:VCALENDAR