BEGIN:VCALENDAR
VERSION:2.0
PRODID:-//ExpressionEngine Easy iCalendar plugin//NONSGML v1.1.1//EN
BEGIN:VEVENT
UID:event
LOCATION:Reid Hall\, Paris
DTSTAMP:20210221T33500Z
DTSTART;TZID=America/New_York:20120924T90000
DTEND;TZID=America/New_York:20120925T000000
SUMMARY:Crisis: Greece\, Europe\, the World—A Two-Day Symposium
DESCRIPTION:This two-day symposium is organized in collaboration with Co
 lumbia Golobal Centers-Europe at Reid Hall\, Paris.  It will
  feature fillmakers Constantine Giannaris and Syllas Tzoumer
 kas\, as well as global labor historian Marcel van der Lind
 en\, economist Jacques Delpy\, and Historian and Heyman Center
  Director Mark Mazower.  For more information\, please visit
  the Reid Hall web page.\n\n 
END:VEVENT
END:VCALENDAR