BEGIN:VCALENDAR
VERSION:2.0
PRODID:-//ExpressionEngine Easy iCalendar plugin//NONSGML v1.1.1//EN
BEGIN:VEVENT
UID:event
LOCATION:Dec 13: Held Lecture Hall (Room 304) Barnard Hall\; Dec 14: K
 ing Juan Carlos Center\, New York University
DTSTAMP:20210221T33000Z
DTSTART;TZID=America/New_York:20121213T90000
DTEND;TZID=America/New_York:20121214T000000
SUMMARY:Why Remember Guantánamo?: GTMO before 9-11\, What Now\, and W
 hat’s Next
DESCRIPTION:“Why Remember Guantánamo?” will bring together an inter
 national group of diverse scholars and stakeholders to launc
 h the Guantánamo Public Memory Project’s traveling exhibi
 t.
END:VEVENT
END:VCALENDAR