BEGIN:VCALENDAR
VERSION:2.0
PRODID:-//ExpressionEngine Easy iCalendar plugin//NONSGML v1.1.1//EN
BEGIN:VEVENT
UID:event
LOCATION:Schermerhorn Hall\, Room 612
DTSTAMP:20210221T32800Z
DTSTART;TZID=America/New_York:20120929T93000
DTEND;TZID=America/New_York:20120929T193000
SUMMARY:Moses Finley and Politics
DESCRIPTION:This conference marks the centenary of Moses Finley's birth.
END:VEVENT
END:VCALENDAR