BEGIN:VCALENDAR
VERSION:2.0
PRODID:-//ExpressionEngine Easy iCalendar plugin//NONSGML v1.1.1//EN
BEGIN:VEVENT
UID:event
LOCATION:The Heyman Center\, Second Floor Common Room
DTSTAMP:20210221T32800Z
DTSTART;TZID=America/New_York:20121205T170000
DTEND;TZID=America/New_York:
SUMMARY:Religion in American War and Diplomacy: A History
DESCRIPTION:Andrew Preston\, Senior Lecturer in American History and aut
 hor of Sword of the Spirit\, Shield of Faith (Knopf\, 2012)\, 
 will speak on "Religion in American War and Diplomacy: A His
 tory."
END:VEVENT
END:VCALENDAR