BEGIN:VCALENDAR
VERSION:2.0
PRODID:-//ExpressionEngine Easy iCalendar plugin//NONSGML v1.1.1//EN
BEGIN:VEVENT
UID:event
LOCATION:The Heyman Center\, Second Floor Common Room
DTSTAMP:20210221T33200Z
DTSTART;TZID=America/New_York:20121022T181500
DTEND;TZID=America/New_York:
SUMMARY:Memory vs. Oblivion: A Game of Chess
DESCRIPTION:In the face of sudden and unexpected changes\, collapsing reg
 imes\, or vanishing ways of life\, we are often amazed by the 
 great number of men and women\, intimately linked to these ch
 anges\, who forget a substantial part of their history and mo
 dify the meaning of their pasts.
END:VEVENT
END:VCALENDAR