BEGIN:VCALENDAR
VERSION:2.0
PRODID:-//ExpressionEngine Easy iCalendar plugin//NONSGML v1.1.1//EN
BEGIN:VEVENT
UID:event
LOCATION:The Heyman Center\, Second Floor Common Room
DTSTAMP:20210221T33300Z
DTSTART;TZID=America/New_York:20121015T181500
DTEND;TZID=America/New_York:
SUMMARY:Prescribing Stories: Reading and Discussion with Physician A
 uthors Chris Adrian and Terrence Holt
DESCRIPTION:Terrence Holt and Chris Adrian are both physicians and award
 -winning fiction writers.  In this event\, they read from th
 eir work and discuss\, among other topics\, the nature of narr
 atives told at the intersection of medicine and literature.
END:VEVENT
END:VCALENDAR