BEGIN:VCALENDAR
VERSION:2.0
PRODID:-//ExpressionEngine Easy iCalendar plugin//NONSGML v1.1.1//EN
BEGIN:VEVENT
UID:event
LOCATION:Schermerhorn Hall\, Room 501
DTSTAMP:20210221T32600Z
DTSTART;TZID=America/New_York:20121109T160000
DTEND;TZID=America/New_York:
SUMMARY:Women in Politics
DESCRIPTION:Join leading feminist thinkers for a debriefing on the role 
 of gender and sexuality in the recent political season.
END:VEVENT
END:VCALENDAR