BEGIN:VCALENDAR
VERSION:2.0
PRODID:-//ExpressionEngine Easy iCalendar plugin//NONSGML v1.1.1//EN
BEGIN:VEVENT
UID:event
LOCATION:Teatro (Second Floor)\, Italian Academy for Advanced Studies
DTSTAMP:20210221T33000Z
DTSTART;TZID=America/New_York:20121126T181500
DTEND;TZID=America/New_York:
SUMMARY:The Edward W. Said Memorial Lecture: Seeing Madness: Insanit
 y\, Media\, and Visual Culture
DESCRIPTION:The Annual Edward Said Memorial Lecture will feature W.J.T. 
 Mitchell on "Seeing Madness: Insanity\, Media\, and Visual Cul
 ture."
END:VEVENT
END:VCALENDAR