BEGIN:VCALENDAR
VERSION:2.0
PRODID:-//ExpressionEngine Easy iCalendar plugin//NONSGML v1.1.1//EN
BEGIN:VEVENT
UID:event
LOCATION:The Heyman Center\, Second Floor Common Room
DTSTAMP:20210221T32800Z
DTSTART;TZID=America/New_York:20121029T181500
DTEND;TZID=America/New_York:
SUMMARY:Eric Hobsbawm’s Legacy - CANCELLED
DESCRIPTION:This event is postponed due to weather. A collection of Colu
 mbia professors will convene to remember the life and schola
 rship of Eric Hobsbawm.
END:VEVENT
END:VCALENDAR