BEGIN:VCALENDAR
VERSION:2.0
PRODID:-//ExpressionEngine Easy iCalendar plugin//NONSGML v1.1.1//EN
BEGIN:VEVENT
UID:event
LOCATION:The Heyman Center\, Second Floor Common Room
DTSTAMP:20210221T33400Z
DTSTART;TZID=America/New_York:20121117T83000
DTEND;TZID=America/New_York:20121117T170000
SUMMARY:Free Market\, Free Press?
DESCRIPTION:“Free Market\, Free Press? The Political Economy of News Re
 porting in the Anglo-American World since 1688” brings tog
 ether a distinguished group of historians and media scholars
  to chart the evolution of the news business in two of the m
 ost important media markets: the United Kingdom and the Unit
 ed States.
END:VEVENT
END:VCALENDAR