BEGIN:VCALENDAR
VERSION:2.0
PRODID:-//ExpressionEngine Easy iCalendar plugin//NONSGML v1.1.1//EN
BEGIN:VEVENT
UID:event
LOCATION:The Heyman Center\, Second Floor Common Room
DTSTAMP:20210221T33900Z
DTSTART;TZID=America/New_York:20121112T120000
DTEND;TZID=America/New_York:
SUMMARY:“Give Us A King!”—Politics Enters Biblical History
DESCRIPTION:Human political authority\, kingship\, enters biblical Israel
 s polity\, heretofore governed exclusively by God\, in I Sam
 uel 7:15-8:22. This dramatic passage is discussed as biblica
 l political thought.
END:VEVENT
END:VCALENDAR