BEGIN:VCALENDAR
VERSION:2.0
PRODID:-//ExpressionEngine Easy iCalendar plugin//NONSGML v1.1.1//EN
BEGIN:VEVENT
UID:event
LOCATION:The Heyman Center\, First Floor Board Room
DTSTAMP:20210221T33100Z
DTSTART;TZID=America/New_York:20120912T180000
DTEND;TZID=America/New_York:20121205T000000
SUMMARY:Theory and Practice: Political Philosophy\, Radical Politics 
 and Social Resistance
DESCRIPTION:Theory and Practice explores critical debates in the history
  of the interaction between political philosophy and grassro
 ots militancy.
END:VEVENT
END:VCALENDAR