BEGIN:VCALENDAR
VERSION:2.0
PRODID:-//ExpressionEngine Easy iCalendar plugin//NONSGML v1.1.1//EN
BEGIN:VEVENT
UID:event
LOCATION:The Heyman Center\, Second Floor Common Room
DTSTAMP:20210221T33300Z
DTSTART;TZID=America/New_York:20121128T181500
DTEND;TZID=America/New_York:
SUMMARY:Triangulating Property Rights
DESCRIPTION:The Panel Discussion on Triangulating Property Rights seeks 
 to advance alternative solutions for governing essential res
 ources such as food\, water\, and shelter\, drawing on theory\, 
 legal\, and empirical research.
END:VEVENT
END:VCALENDAR