BEGIN:VCALENDAR
VERSION:2.0
PRODID:-//ExpressionEngine Easy iCalendar plugin//NONSGML v1.1.1//EN
BEGIN:VEVENT
UID:event
LOCATION:The Heyman Center\, Second Floor Common Room
DTSTAMP:20210221T32900Z
DTSTART;TZID=America/New_York:20121130T103000
DTEND;TZID=America/New_York:20121130T123000
SUMMARY:Subaltern Urbanism: Forms of Life
DESCRIPTION:This Heyman Center Faculty Workshop on Subaltern Urbanism ex
 plores the "the urban" as a historic and contemporary form o
 f life.
END:VEVENT
END:VCALENDAR