BEGIN:VCALENDAR
VERSION:2.0
PRODID:-//ExpressionEngine Easy iCalendar plugin//NONSGML v1.1.1//EN
BEGIN:VEVENT
UID:event
LOCATION:International Affairs Building\, Room 1501
DTSTAMP:20210221T32900Z
DTSTART;TZID=America/New_York:20130208T90000
DTEND;TZID=America/New_York:20130209T000000
SUMMARY:The Moment of British Women’s History: Memories\, Celebrati
 ons\, Assessments\, Critiques
DESCRIPTION:About forty years ago\, historians of women began to claim a 
 place for their subject as a distinct scholarly field.  Thi
 s movement emerged particularly powerfully in Britain\, its e
 arly preoccupations and questions shaped by the Feminist Mov
 ement\, the New Left\, and especially by Thompsonian social hi
 story.  This conference will convene more than 30 historian
 s to reflect on "The Moment of British Women's History."
END:VEVENT
END:VCALENDAR