BEGIN:VCALENDAR
VERSION:2.0
PRODID:-//ExpressionEngine Easy iCalendar plugin//NONSGML v1.1.1//EN
BEGIN:VEVENT
UID:event
LOCATION:The Heyman Center\, Second Floor Common Room
DTSTAMP:20210221T33900Z
DTSTART;TZID=America/New_York:20130128T181500
DTEND;TZID=America/New_York:
SUMMARY:Nick Laird and Timothy Donnelly—reading and conversing wit
 h Robyn Creswell
DESCRIPTION:Renowned poets Nick Laird and Timothy Donnelly will read fro
 m their work and converse with critic\, translator\, and schol
 ar Robyn Creswell.
END:VEVENT
END:VCALENDAR