BEGIN:VCALENDAR
VERSION:2.0
PRODID:-//ExpressionEngine Easy iCalendar plugin//NONSGML v1.1.1//EN
BEGIN:VEVENT
UID:event
LOCATION:Pulitzer Hall (formerly Journalism Hall)\, Room 301
DTSTAMP:20210221T33800Z
DTSTART;TZID=America/New_York:20130130T181500
DTEND;TZID=America/New_York:
SUMMARY:Going Solo: The Extraordinary Rise and Surprising Appeal of 
 Living Alone
DESCRIPTION:Sharon Marcus interviews Eric Klinenberg\, the author of Goin
 g Solo--a book that the Atlantic calls "The Most Conversati
 on-Generating Book About How We Live Now" of 2012.
END:VEVENT
END:VCALENDAR