BEGIN:VCALENDAR
VERSION:2.0
PRODID:-//ExpressionEngine Easy iCalendar plugin//NONSGML v1.1.1//EN
BEGIN:VEVENT
UID:event
LOCATION:Pulitzer Hall (formerly Journalism Hall)\, The World Room (Ro
 om 305)
DTSTAMP:20210221T33200Z
DTSTART;TZID=America/New_York:20130131T181500
DTEND;TZID=America/New_York:
SUMMARY:The Whistleblower: Kathryn Bolkovac—Peacekeeping and Human
  Trafficking in Bosnia
DESCRIPTION:Human rights activist and whistleblower Kathryn Bolkovac wil
 l discuss her work to stop human trafficking\, as well as oth
 er topics with Tanya Domi\, whose reporting broke Ms. Bolkova
 c's story.
END:VEVENT
END:VCALENDAR