BEGIN:VCALENDAR
VERSION:2.0
PRODID:-//ExpressionEngine Easy iCalendar plugin//NONSGML v1.1.1//EN
BEGIN:VEVENT
UID:event
LOCATION:The Heyman Center\, Second Floor Common Room
DTSTAMP:20210221T33300Z
DTSTART;TZID=America/New_York:20130204T181500
DTEND;TZID=America/New_York:
SUMMARY:Value and Labor
DESCRIPTION:Many economists and philosophers\, ranging from Aquinas and I
 bn Khaldun to Adam Smith and Marx\, have declared deep connec
 tions between value and labor.  Is there such a connection?
   And if so\, what form does it take? Two of the most promin
 ent economists on the Left—Prabhat Patnaik and John Roemer
 --respond to these questions and their relevance to the glob
 al political economy today.
END:VEVENT
END:VCALENDAR