BEGIN:VCALENDAR
VERSION:2.0
PRODID:-//ExpressionEngine Easy iCalendar plugin//NONSGML v1.1.1//EN
BEGIN:VEVENT
UID:event
LOCATION:The Schapiro Center\, Davis Auditorium
DTSTAMP:20210221T33400Z
DTSTART;TZID=America/New_York:20130212T181500
DTEND;TZID=America/New_York:
SUMMARY:Authors Justin Torres and Marie Myung-Ok Lee—reading and c
 onversing with Ellis Avery
DESCRIPTION:Renowned authors Justin Torres and Marie Myung-Ok Lee speak 
 about their work with Ellis Avery.
END:VEVENT
END:VCALENDAR