BEGIN:VCALENDAR
VERSION:2.0
PRODID:-//ExpressionEngine Easy iCalendar plugin//NONSGML v1.1.1//EN
BEGIN:VEVENT
UID:event
LOCATION:The Kraft Center\, Rennert Auditorium
DTSTAMP:20210221T33200Z
DTSTART;TZID=America/New_York:20130220T181500
DTEND;TZID=America/New_York:
SUMMARY:Playwright David Henry Hwang in conversation with Gregory Mo
 sher and Jean Howard
DESCRIPTION:Award winning playwright David Henry Hwang will speak with t
 heater director Gregory Mosher and theater scholar Jean Howa
 rd.
END:VEVENT
END:VCALENDAR