BEGIN:VCALENDAR
VERSION:2.0
PRODID:-//ExpressionEngine Easy iCalendar plugin//NONSGML v1.1.1//EN
BEGIN:VEVENT
UID:event
LOCATION:The Schapiro Center\, Davis Auditorium
DTSTAMP:20210221T33100Z
DTSTART;TZID=America/New_York:20130226T181500
DTEND;TZID=America/New_York:
SUMMARY:Adam Phillips in conversation with Andrew Miller
DESCRIPTION:Adam Phillips\, renowned psychologist and author of On Kissin
 g\, Tickling\, and Being Bored\, will join Andrew Miller\, Profe
 ssor of English at Indiana University\, Bloomington\, in conve
 rsation.
END:VEVENT
END:VCALENDAR