BEGIN:VCALENDAR
VERSION:2.0
PRODID:-//ExpressionEngine Easy iCalendar plugin//NONSGML v1.1.1//EN
BEGIN:VEVENT
UID:event
LOCATION:Miller Theatre
DTSTAMP:20210221T33900Z
DTSTART;TZID=America/New_York:20130227T183000
DTEND;TZID=America/New_York:
SUMMARY:The Strangest—a staged reading followed by discussion with
  James Schamus
DESCRIPTION:Infused with elements of Middle Eastern oral storytelling tr
 aditions and dance\, The Strangest is an absurdist murder my
 stery about two Algerian brothers who vie for the love of th
 e same woman.
END:VEVENT
END:VCALENDAR