BEGIN:VCALENDAR
VERSION:2.0
PRODID:-//ExpressionEngine Easy iCalendar plugin//NONSGML v1.1.1//EN
BEGIN:VEVENT
UID:event
LOCATION:The Kraft Center\, Rennert Auditorium
DTSTAMP:20210221T33900Z
DTSTART;TZID=America/New_York:20130306T181500
DTEND;TZID=America/New_York:
SUMMARY:An Evening with Nick Hornby—in conversation with Saskia Ha
 milton
DESCRIPTION:Novelist\, essayist\, lyricist\, and screenwriter Nick Hornby v
 isits the Heyman Center.
END:VEVENT
END:VCALENDAR