BEGIN:VCALENDAR
VERSION:2.0
PRODID:-//ExpressionEngine Easy iCalendar plugin//NONSGML v1.1.1//EN
BEGIN:VEVENT
UID:event
LOCATION:The Heyman Center\, Second Floor Common Room
DTSTAMP:20210221T33400Z
DTSTART;TZID=America/New_York:20130312T181500
DTEND;TZID=America/New_York:
SUMMARY:Should Business Schools Have a Future?
DESCRIPTION:The recent financial crisis has raised disturbing questions 
 about our nation’s business elite.   To what extent can 
 this crisis be traced to the pedagogy of our business school
 s?   Can business education promote the public good?  If 
 not\, then how might we go about re-envisioning the education
  of the next generation of business leaders?
END:VEVENT
END:VCALENDAR