BEGIN:VCALENDAR
VERSION:2.0
PRODID:-//ExpressionEngine Easy iCalendar plugin//NONSGML v1.1.1//EN
BEGIN:VEVENT
UID:event
LOCATION:The Heyman Center\, Second Floor Common Room
DTSTAMP:20210221T33100Z
DTSTART;TZID=America/New_York:20130409T181500
DTEND;TZID=America/New_York:
SUMMARY:Looking Down on Modernity: Aerial Photography and the Scienc
 e of Social Space
DESCRIPTION:Jeanne Haffner and Anthony Vidler will investigate the lasti
 ng impact of novel techniques of vision and representation o
 n the ways in which we have come to "see\," analyze\, and appr
 oach urban form--and to link it to social life.
END:VEVENT
END:VCALENDAR