BEGIN:VCALENDAR
VERSION:2.0
PRODID:-//ExpressionEngine Easy iCalendar plugin//NONSGML v1.1.1//EN
BEGIN:VEVENT
UID:event
LOCATION:The Auditorium at Earl Hall
DTSTAMP:20210221T33800Z
DTSTART;TZID=America/New_York:20130411T181500
DTEND;TZID=America/New_York:
SUMMARY:A reading by Uzodinma Iweala
DESCRIPTION:Uzodinma Iweala is the author of Beasts of No Nation\, which 
 won the Los Angeles Times Book Prize\, the New York Public Li
 brary Young Lions Award\, and the Sue Kaufman Prize from the 
 American Academy of Arts and Letters.
END:VEVENT
END:VCALENDAR