BEGIN:VCALENDAR
VERSION:2.0
PRODID:-//ExpressionEngine Easy iCalendar plugin//NONSGML v1.1.1//EN
BEGIN:VEVENT
UID:event
LOCATION:\, Jerome Greene Annex & Lehman Auditorium\, 202 Altschul Hall
 \, Barnard College
DTSTAMP:20210221T32600Z
DTSTART;TZID=America/New_York:20130412T90000
DTEND;TZID=America/New_York:20130413T000000
SUMMARY:Medicine\, the Humanities\, and the Human Sciences —a two-da
 y conference
DESCRIPTION:Taking “medical humanities” as its subject\, this confere
 nce considers some of the investigations and interventions m
 ade by those who study illness and health from the perspecti
 ves of the arts\, humanities\, and human sciences.  Presentat
 ions by medical practitioners\, historians\, social justice ad
 vocates\, medical journalists\, disability studies and narrati
 ve studies scholars will be interspersed with readings by po
 ets and novelists\, reports from the field\, and a theatrical 
 performance.
END:VEVENT
END:VCALENDAR