BEGIN:VCALENDAR
VERSION:2.0
PRODID:-//ExpressionEngine Easy iCalendar plugin//NONSGML v1.1.1//EN
BEGIN:VEVENT
UID:event
LOCATION:The Heyman Center\, Second Floor Common Room
DTSTAMP:20210221T33100Z
DTSTART;TZID=America/New_York:20130423T181500
DTEND;TZID=America/New_York:
SUMMARY:“What\, Ultimately\, for?” Trilling\, Leavis\, and the Limit
 s of Cultural Criticism
DESCRIPTION:Through a re-consideration of several classic instances\, thi
 s lecture explores some of the ways in which the very excess
 es of polemical or satirical contributions to public debate 
 may themselves be the main bearer of more adequate conceptio
 ns of human life.
END:VEVENT
END:VCALENDAR