BEGIN:VCALENDAR
VERSION:2.0
PRODID:-//ExpressionEngine Easy iCalendar plugin//NONSGML v1.1.1//EN
BEGIN:VEVENT
UID:event
LOCATION:The Kraft Center\, Rennert Auditorium
DTSTAMP:20210221T33600Z
DTSTART;TZID=America/New_York:20130501T181500
DTEND;TZID=America/New_York:
SUMMARY:Family Novels - featuring Colm Tóibín and Julie Orringer
DESCRIPTION:Colm Tóibín\, the author of many bestselling and critically
  acclaimed novels\, will speak with Julie Orringer\, author o
 f The Invisible Bridge\, on “Family Novels.”
END:VEVENT
END:VCALENDAR