BEGIN:VCALENDAR
VERSION:2.0
PRODID:-//ExpressionEngine Easy iCalendar plugin//NONSGML v1.1.1//EN
BEGIN:VEVENT
UID:event
LOCATION:The Heyman Center\, Second Floor Common Room
DTSTAMP:20210221T32700Z
DTSTART;TZID=America/New_York:20130502T181500
DTEND;TZID=America/New_York:
SUMMARY:Value: Social and Ecological
DESCRIPTION:Jonathan Schell\, the author of the pioneering work "The Fate
  of the Earth\," has turned his gaze recently on the urgencie
 s of climate change today. He will be joined by James Tully\,
  a political theorist and intellectual historian of the Camb
 ridge school. To listen to an audio recording of this event 
 please click here.
END:VEVENT
END:VCALENDAR