BEGIN:VCALENDAR
VERSION:2.0
PRODID:-//ExpressionEngine Easy iCalendar plugin//NONSGML v1.1.1//EN
BEGIN:VEVENT
UID:event
LOCATION:The Heyman Center\, Second Floor Common Room
DTSTAMP:20210221T33500Z
DTSTART;TZID=America/New_York:20130329T90000
DTEND;TZID=America/New_York:20130330T000000
SUMMARY:Credulity: Enchantment and Modernity in the 19th-Century U.S
 .
DESCRIPTION:What is the place of enchantment in nineteenth-century Ameri
 ca?  Scholars of the secular have been accumulating a rich 
 description of what it meant in this period to "aim for 'mod
 ernity\,'" in Talal Asad's phrase. This conference asks about
  the persons and knowledges which appeared as excessive\, eve
 n dangerous\, to this project—while assuming that this exce
 ss cannot simply be described as "religion."
END:VEVENT
END:VCALENDAR