BEGIN:VCALENDAR
VERSION:2.0
PRODID:-//ExpressionEngine Easy iCalendar plugin//NONSGML v1.1.1//EN
BEGIN:VEVENT
UID:event
LOCATION:The Heyman Center\, Second Floor Common Room
DTSTAMP:20210221T33600Z
DTSTART;TZID=America/New_York:20130313T183000
DTEND;TZID=America/New_York:
SUMMARY:Reconsidering “Opposition”: Historical\, Activist\, Litera
 ry\, and Theoretical Perspectives
DESCRIPTION:The New York Consortium for Intellectual and Cultural Histor
 y presents an open discussion on "Reconsidering 'Opposition.
 '"
END:VEVENT
END:VCALENDAR