BEGIN:VCALENDAR
VERSION:2.0
PRODID:-//ExpressionEngine Easy iCalendar plugin//NONSGML v1.1.1//EN
BEGIN:VEVENT
UID:event
LOCATION:Pulitzer Hall (formerly Journalism Hall)\, Room 305
DTSTAMP:20210221T33600Z
DTSTART;TZID=America/New_York:20130328T181500
DTEND;TZID=America/New_York:
SUMMARY:An Evening with Hilton Als and Lisa Cohen—moderated by Hea
 ther Love
DESCRIPTION:This event will feature author and New Yorker theatre criti
 c Hilton Als and acclaimed author Lisa Cohen in conversatio
 n with Heather Love\, author and associate professor of Engli
 sh at the University of Pennsylvania.
END:VEVENT
END:VCALENDAR