BEGIN:VCALENDAR
VERSION:2.0
PRODID:-//ExpressionEngine Easy iCalendar plugin//NONSGML v1.1.1//EN
BEGIN:VEVENT
UID:event
LOCATION:The Heyman Center\, Second Floor Common Room
DTSTAMP:20210221T33100Z
DTSTART;TZID=America/New_York:20130418T181500
DTEND;TZID=America/New_York:
SUMMARY:Non-Violent Reading
DESCRIPTION:This evening will include talks by Leela Gandhi and Isabel H
 ofmeyr focused on the theme of "Non-Violent Reading."
END:VEVENT
END:VCALENDAR