BEGIN:VCALENDAR
VERSION:2.0
PRODID:-//ExpressionEngine Easy iCalendar plugin//NONSGML v1.1.1//EN
BEGIN:VEVENT
UID:event
LOCATION:Columbia University Reid Hall\, Université Paris Diderot\, an
 d Université Panthéon-Assas
DTSTAMP:20210221T33900Z
DTSTART;TZID=America/New_York:20130626T90000
DTEND;TZID=America/New_York:20130628T000000
SUMMARY:Cultural Economy and Intellectual Property
DESCRIPTION:The term “cultural economy” has been employed by scholar
 s interested in the cultural dimensions of financial and com
 mercial activities as well as by those interested in the eco
 nomics of culture in societies past and present. In pairing 
 this term with intellectual property\, the fifth annual ISHTI
 P workshop seeks to stimulate interdisciplinary discussion a
 bout the different ways culture and economy interact and how
  their interactions shape norms and regulations pertaining t
 o IP.
END:VEVENT
END:VCALENDAR