BEGIN:VCALENDAR
VERSION:2.0
PRODID:-//ExpressionEngine Easy iCalendar plugin//NONSGML v1.1.1//EN
BEGIN:VEVENT
UID:event
LOCATION:International Affairs Building\, Room 1501
DTSTAMP:20210221T33400Z
DTSTART;TZID=America/New_York:20130408T90000
DTEND;TZID=America/New_York:
SUMMARY:The Rise of the South: Current Trends >> Future Possibilitie
 s
DESCRIPTION:Despite the recognition of global changes driven by the rise
  of the South\, key concepts and categories are under-theoriz
 ed and some important aspects of this phenomenon remain at t
 he periphery of discussions.
END:VEVENT
END:VCALENDAR